BEGIN:VCALENDAR
VERSION:2.0
PRODID:-// - ECPv6.15.20//NONSGML v1.0//EN
CALSCALE:GREGORIAN
METHOD:PUBLISH
X-ORIGINAL-URL:https://judoschwaben.de
X-WR-CALDESC:Veranstaltungen für 
REFRESH-INTERVAL;VALUE=DURATION:PT1H
X-Robots-Tag:noindex
X-PUBLISHED-TTL:PT1H
BEGIN:VTIMEZONE
TZID:Europe/Berlin
BEGIN:DAYLIGHT
TZOFFSETFROM:+0100
TZOFFSETTO:+0200
TZNAME:CEST
DTSTART:20210328T010000
END:DAYLIGHT
BEGIN:STANDARD
TZOFFSETFROM:+0200
TZOFFSETTO:+0100
TZNAME:CET
DTSTART:20211031T010000
END:STANDARD
BEGIN:DAYLIGHT
TZOFFSETFROM:+0100
TZOFFSETTO:+0200
TZNAME:CEST
DTSTART:20220327T010000
END:DAYLIGHT
BEGIN:STANDARD
TZOFFSETFROM:+0200
TZOFFSETTO:+0100
TZNAME:CET
DTSTART:20221030T010000
END:STANDARD
BEGIN:DAYLIGHT
TZOFFSETFROM:+0100
TZOFFSETTO:+0200
TZNAME:CEST
DTSTART:20230326T010000
END:DAYLIGHT
BEGIN:STANDARD
TZOFFSETFROM:+0200
TZOFFSETTO:+0100
TZNAME:CET
DTSTART:20231029T010000
END:STANDARD
END:VTIMEZONE
BEGIN:VEVENT
DTSTART;TZID=Europe/Berlin:20220508T100000
DTEND;TZID=Europe/Berlin:20220508T150000
DTSTAMP:20260423T181052
CREATED:20220415T140153Z
LAST-MODIFIED:20220415T140153Z
UID:925-1652004000-1652022000@judoschwaben.de
SUMMARY:Zentrale Kyu - Prüfung 1./2. Kyu Bezirk Schwaben beim TSV 1871 Augsburg am 08.05.2022
DESCRIPTION:220508_Ausschreibung_Zentrale_Pr_1_2_Kyurale Kyu Prüfung
URL:https://judoschwaben.de/termine/zentrale-kyu-pruefung-1-2-kyu-bezirk-schwaben-beim-tsv-1871-augsburg-am-08-05-2022/
LOCATION:Sporthalle TSV 1871 Augsburg\, Mayerweg\, Augsburg\, Bayern\, 86154\, Deutschland
CATEGORIES:Prüfungswesen
END:VEVENT
END:VCALENDAR