BEGIN:VCALENDAR
VERSION:2.0
PRODID:-// - ECPv6.15.20//NONSGML v1.0//EN
CALSCALE:GREGORIAN
METHOD:PUBLISH
X-ORIGINAL-URL:https://judoschwaben.de
X-WR-CALDESC:Veranstaltungen für 
REFRESH-INTERVAL;VALUE=DURATION:PT1H
X-Robots-Tag:noindex
X-PUBLISHED-TTL:PT1H
BEGIN:VTIMEZONE
TZID:Europe/Berlin
BEGIN:DAYLIGHT
TZOFFSETFROM:+0100
TZOFFSETTO:+0200
TZNAME:CEST
DTSTART:20250330T010000
END:DAYLIGHT
BEGIN:STANDARD
TZOFFSETFROM:+0200
TZOFFSETTO:+0100
TZNAME:CET
DTSTART:20251026T010000
END:STANDARD
BEGIN:DAYLIGHT
TZOFFSETFROM:+0100
TZOFFSETTO:+0200
TZNAME:CEST
DTSTART:20260329T010000
END:DAYLIGHT
BEGIN:STANDARD
TZOFFSETFROM:+0200
TZOFFSETTO:+0100
TZNAME:CET
DTSTART:20261025T010000
END:STANDARD
BEGIN:DAYLIGHT
TZOFFSETFROM:+0100
TZOFFSETTO:+0200
TZNAME:CEST
DTSTART:20270328T010000
END:DAYLIGHT
BEGIN:STANDARD
TZOFFSETFROM:+0200
TZOFFSETTO:+0100
TZNAME:CET
DTSTART:20271031T010000
END:STANDARD
END:VTIMEZONE
BEGIN:VEVENT
DTSTART;TZID=Europe/Berlin:20260315T093000
DTEND;TZID=Europe/Berlin:20260315T160000
DTSTAMP:20260422T233949
CREATED:20251206T114822Z
LAST-MODIFIED:20260208T111537Z
UID:2864-1773567000-1773590400@judoschwaben.de
SUMMARY:Zentraler Vorbereitungslehrgang Graduierung 1.Kyu Nord
DESCRIPTION:20260315_Ausschreibung VBL 1. Kyu 15.03.2026
URL:https://judoschwaben.de/termine/zentraler-vorbereitungslehrgang-graduierung-1-kyu-nord/
LOCATION:Ottmarshausen\, Dojo JC Augsburg\, Aystettrn Str. 17\, Neusäss Ottmarshausen
CATEGORIES:Prüfungswesen
END:VEVENT
END:VCALENDAR