BEGIN:VCALENDAR
VERSION:2.0
PRODID:-// - ECPv6.15.20//NONSGML v1.0//EN
CALSCALE:GREGORIAN
METHOD:PUBLISH
X-ORIGINAL-URL:https://judoschwaben.de
X-WR-CALDESC:Veranstaltungen für 
REFRESH-INTERVAL;VALUE=DURATION:PT1H
X-Robots-Tag:noindex
X-PUBLISHED-TTL:PT1H
BEGIN:VTIMEZONE
TZID:Europe/Berlin
BEGIN:DAYLIGHT
TZOFFSETFROM:+0100
TZOFFSETTO:+0200
TZNAME:CEST
DTSTART:20240331T010000
END:DAYLIGHT
BEGIN:STANDARD
TZOFFSETFROM:+0200
TZOFFSETTO:+0100
TZNAME:CET
DTSTART:20241027T010000
END:STANDARD
BEGIN:DAYLIGHT
TZOFFSETFROM:+0100
TZOFFSETTO:+0200
TZNAME:CEST
DTSTART:20250330T010000
END:DAYLIGHT
BEGIN:STANDARD
TZOFFSETFROM:+0200
TZOFFSETTO:+0100
TZNAME:CET
DTSTART:20251026T010000
END:STANDARD
BEGIN:DAYLIGHT
TZOFFSETFROM:+0100
TZOFFSETTO:+0200
TZNAME:CEST
DTSTART:20260329T010000
END:DAYLIGHT
BEGIN:STANDARD
TZOFFSETFROM:+0200
TZOFFSETTO:+0100
TZNAME:CET
DTSTART:20261025T010000
END:STANDARD
END:VTIMEZONE
BEGIN:VEVENT
DTSTART;TZID=Europe/Berlin:20250712T093000
DTEND;TZID=Europe/Berlin:20250713T170000
DTSTAMP:20260423T012624
CREATED:20241128T123125Z
LAST-MODIFIED:20250627T094945Z
UID:2268-1752312600-1752426000@judoschwaben.de
SUMMARY:Vorbereitungslehrgang René de Smet und Bayernpokal
DESCRIPTION:25-07-12_Bezirkslehrgang_KE
URL:https://judoschwaben.de/termine/vorbereitungslehrgang-rene-de-smet-und-bayernpokal-ausweichtermin/
LOCATION:TV Memmingen\, Schlachthofstraße 34\, Memmingen\, Bayern\, 87700\, Deutschland
CATEGORIES:Regionalstützpunkt,Schwabenkader,Wettkampf
END:VEVENT
END:VCALENDAR