BEGIN:VCALENDAR
VERSION:2.0
PRODID:-// - ECPv6.15.20//NONSGML v1.0//EN
CALSCALE:GREGORIAN
METHOD:PUBLISH
X-ORIGINAL-URL:https://judoschwaben.de
X-WR-CALDESC:Veranstaltungen für 
REFRESH-INTERVAL;VALUE=DURATION:PT1H
X-Robots-Tag:noindex
X-PUBLISHED-TTL:PT1H
BEGIN:VTIMEZONE
TZID:Europe/Berlin
BEGIN:DAYLIGHT
TZOFFSETFROM:+0100
TZOFFSETTO:+0200
TZNAME:CEST
DTSTART:20240331T010000
END:DAYLIGHT
BEGIN:STANDARD
TZOFFSETFROM:+0200
TZOFFSETTO:+0100
TZNAME:CET
DTSTART:20241027T010000
END:STANDARD
BEGIN:DAYLIGHT
TZOFFSETFROM:+0100
TZOFFSETTO:+0200
TZNAME:CEST
DTSTART:20250330T010000
END:DAYLIGHT
BEGIN:STANDARD
TZOFFSETFROM:+0200
TZOFFSETTO:+0100
TZNAME:CET
DTSTART:20251026T010000
END:STANDARD
BEGIN:DAYLIGHT
TZOFFSETFROM:+0100
TZOFFSETTO:+0200
TZNAME:CEST
DTSTART:20260329T010000
END:DAYLIGHT
BEGIN:STANDARD
TZOFFSETFROM:+0200
TZOFFSETTO:+0100
TZNAME:CET
DTSTART:20261025T010000
END:STANDARD
END:VTIMEZONE
BEGIN:VEVENT
DTSTART;TZID=Europe/Berlin:20251130T100000
DTEND;TZID=Europe/Berlin:20251130T170000
DTSTAMP:20260425T140934
CREATED:20251020T085541Z
LAST-MODIFIED:20251020T085541Z
UID:2782-1764496800-1764522000@judoschwaben.de
SUMMARY:Fortbildung zur Verlängerung der Kyu Prüfer Lizenz Bezirk Schwaben
DESCRIPTION:Teilnehmer: Kyu Prüfer\, Trainer\, Interessenten. Teilnehmer aus a deren Bezirken benötigen die Genehmigung ihres Bezirksprüfungsbeauftragten zur Lizenzverlängerung \nMeldeschluss 25.11.25 \n301125_Ausschreibung Prüferfortbildung
URL:https://judoschwaben.de/termine/fortbildung-zur-verlaengerung-der-kyu-pruefer-lizenz-bezirk-schwaben/
LOCATION:Ottmarshausen\, Dojo JC Augsburg\, Aystettrn Str. 17\, Neusäss Ottmarshausen
CATEGORIES:Prüfungswesen
END:VEVENT
END:VCALENDAR