BEGIN:VCALENDAR
VERSION:2.0
PRODID:-// - ECPv6.15.20//NONSGML v1.0//EN
CALSCALE:GREGORIAN
METHOD:PUBLISH
X-ORIGINAL-URL:https://judoschwaben.de
X-WR-CALDESC:Veranstaltungen für 
REFRESH-INTERVAL;VALUE=DURATION:PT1H
X-Robots-Tag:noindex
X-PUBLISHED-TTL:PT1H
BEGIN:VTIMEZONE
TZID:Europe/Berlin
BEGIN:DAYLIGHT
TZOFFSETFROM:+0100
TZOFFSETTO:+0200
TZNAME:CEST
DTSTART:20190331T010000
END:DAYLIGHT
BEGIN:STANDARD
TZOFFSETFROM:+0200
TZOFFSETTO:+0100
TZNAME:CET
DTSTART:20191027T010000
END:STANDARD
BEGIN:DAYLIGHT
TZOFFSETFROM:+0100
TZOFFSETTO:+0200
TZNAME:CEST
DTSTART:20200329T010000
END:DAYLIGHT
BEGIN:STANDARD
TZOFFSETFROM:+0200
TZOFFSETTO:+0100
TZNAME:CET
DTSTART:20201025T010000
END:STANDARD
BEGIN:DAYLIGHT
TZOFFSETFROM:+0100
TZOFFSETTO:+0200
TZNAME:CEST
DTSTART:20210328T010000
END:DAYLIGHT
BEGIN:STANDARD
TZOFFSETFROM:+0200
TZOFFSETTO:+0100
TZNAME:CET
DTSTART:20211031T010000
END:STANDARD
END:VTIMEZONE
BEGIN:VEVENT
DTSTART;TZID=Europe/Berlin:20200904T170000
DTEND;TZID=Europe/Berlin:20200906T110000
DTSTAMP:20260426T022543
CREATED:20200719T193736Z
LAST-MODIFIED:20200817T185620Z
UID:437-1599238800-1599390000@judoschwaben.de
SUMMARY:Ju no kata - Hüttenwochenende in Lermoos 2020
DESCRIPTION:200719_Huettenwochenende 2020 – Ausschreibung \nBreitensportorientiertes gemeinsames Beisammensein mit Judoakzenten nach Taiso und Ju no Kata \nReferenten: Heike Betz 2. Dan Katabeauftragte BJV\, Wolfgang Fanderl 6. Dan Mitglied der Kata Kommission\, Wolfgang Schelzig 4. Dan \nOffen für alle interessierten Mitglieder des BJV (Einzelheiten siehe Beschreibung).\nLimitierte Teilnehmerzahl mit Warteliste! Die Anmeldung wird mit der Bezahlung\nder Kurs gebühr wirksam. Die Teilnahmeplätze werden in der Reihenfolge der\nAnmeldung vergeben. 3 Trainingseinheiten\, Übernachtungsmöglichkeit \nDie Anmeldung ist bis zum 31.08.2020 mit Angabe von Name\, Jahrgang und Verein\nper E-Mail an jugend.w@judoschwaben.de zu senden.
URL:https://judoschwaben.de/termine/ju-no-kata-huettenwochenende-in-lermoos-2020/
LOCATION:„Ferienhaus Lermoos Zugspitzarena”\, Untergarten 21\,  6631 Lermoos\, Österreich\, Untergarten 21\, Lermoos\, 6631\, Österreich
END:VEVENT
END:VCALENDAR