BEGIN:VCALENDAR
VERSION:2.0
PRODID:-// - ECPv6.15.20//NONSGML v1.0//EN
CALSCALE:GREGORIAN
METHOD:PUBLISH
X-ORIGINAL-URL:https://judoschwaben.de
X-WR-CALDESC:Veranstaltungen für 
REFRESH-INTERVAL;VALUE=DURATION:PT1H
X-Robots-Tag:noindex
X-PUBLISHED-TTL:PT1H
BEGIN:VTIMEZONE
TZID:Europe/Berlin
BEGIN:DAYLIGHT
TZOFFSETFROM:+0100
TZOFFSETTO:+0200
TZNAME:CEST
DTSTART:20230326T010000
END:DAYLIGHT
BEGIN:STANDARD
TZOFFSETFROM:+0200
TZOFFSETTO:+0100
TZNAME:CET
DTSTART:20231029T010000
END:STANDARD
BEGIN:DAYLIGHT
TZOFFSETFROM:+0100
TZOFFSETTO:+0200
TZNAME:CEST
DTSTART:20240331T010000
END:DAYLIGHT
BEGIN:STANDARD
TZOFFSETFROM:+0200
TZOFFSETTO:+0100
TZNAME:CET
DTSTART:20241027T010000
END:STANDARD
BEGIN:DAYLIGHT
TZOFFSETFROM:+0100
TZOFFSETTO:+0200
TZNAME:CEST
DTSTART:20250330T010000
END:DAYLIGHT
BEGIN:STANDARD
TZOFFSETFROM:+0200
TZOFFSETTO:+0100
TZNAME:CET
DTSTART:20251026T010000
END:STANDARD
END:VTIMEZONE
BEGIN:VEVENT
DTSTART;TZID=Europe/Berlin:20241015T193000
DTEND;TZID=Europe/Berlin:20241015T210000
DTSTAMP:20260422T012644
CREATED:20240923T083946Z
LAST-MODIFIED:20240923T083946Z
UID:2190-1729020600-1729026000@judoschwaben.de
SUMMARY:Bezirks Kata-Treff
DESCRIPTION:2024_10_15 – Ausschreibung Kata-Treff
URL:https://judoschwaben.de/termine/bezirks-kata-treff-11/
LOCATION:JC Augsburg Rotes Tor\, Grundschule vor dem Roten Tor Zufahrt Parkplatz Schülestraße\, Augsburg\, Bayern\, 86161
CATEGORIES:Bezirk allgemein,Kata,Prüfungswesen
END:VEVENT
END:VCALENDAR